Package: topconfects Version: 1.23.2 Command: /Library/Frameworks/R.framework/Resources/bin/R CMD INSTALL topconfects StartedAt: 2025-02-05 15:08:06 -0500 (Wed, 05 Feb 2025) EndedAt: 2025-02-05 15:08:27 -0500 (Wed, 05 Feb 2025) EllapsedTime: 20.8 seconds RetCode: 0 Status: OK