Package: topconfects Version: 1.25.0 Command: /Library/Frameworks/R.framework/Resources/bin/R CMD check --install=check:topconfects.install-out.txt --library=/Library/Frameworks/R.framework/Resources/library --no-vignettes --timings topconfects_1.25.0.tar.gz StartedAt: 2025-04-30 00:01:30 -0400 (Wed, 30 Apr 2025) EndedAt: 2025-04-30 00:03:09 -0400 (Wed, 30 Apr 2025) EllapsedTime: 98.9 seconds RetCode: 0 Status: OK CheckDir: topconfects.Rcheck Warnings: 0