Package: topconfects Version: 1.23.2 Command: rm -rf topconfects.buildbin-libdir && mkdir topconfects.buildbin-libdir && /Users/biocbuild/BBS/utils/build-universal.sh topconfects_1.23.2.tar.gz /Library/Frameworks/R.framework/Resources/bin/R topconfects.buildbin-libdir StartedAt: 2025-02-06 00:57:05 -0500 (Thu, 06 Feb 2025) EndedAt: 2025-02-06 00:57:14 -0500 (Thu, 06 Feb 2025) EllapsedTime: 9.2 seconds RetCode: 0 Status: OK PackageFile: topconfects_1.23.2.tgz PackageFileSize: 2.676 MiB