Package: topconfects Version: 1.23.2 Command: /home/biocbuild/R/R/bin/R CMD check --install=check:topconfects.install-out.txt --library=/home/biocbuild/R/R/site-library --no-vignettes --timings topconfects_1.23.2.tar.gz StartedAt: 2025-01-28 16:12:50 -0000 (Tue, 28 Jan 2025) EndedAt: 2025-01-28 16:15:04 -0000 (Tue, 28 Jan 2025) EllapsedTime: 134.2 seconds RetCode: 0 Status: OK CheckDir: topconfects.Rcheck Warnings: 0