Package: topconfects Version: 1.23.2 Command: /home/biocbuild/R/R/bin/R CMD build --keep-empty-dirs --no-resave-data topconfects StartedAt: 2025-01-28 02:57:36 -0000 (Tue, 28 Jan 2025) EndedAt: 2025-01-28 03:00:32 -0000 (Tue, 28 Jan 2025) EllapsedTime: 176.1 seconds RetCode: 0 Status: OK PackageFile: topconfects_1.23.2.tar.gz PackageFileSize: 1.493 MiB