Package: topconfects Version: 1.23.2 Command: /Library/Frameworks/R.framework/Resources/bin/R CMD check --install=check:topconfects.install-out.txt --library=/Library/Frameworks/R.framework/Resources/library --no-vignettes --timings topconfects_1.23.2.tar.gz StartedAt: 2025-02-04 21:48:23 -0500 (Tue, 04 Feb 2025) EndedAt: 2025-02-04 21:48:53 -0500 (Tue, 04 Feb 2025) EllapsedTime: 30.3 seconds RetCode: 0 Status: OK CheckDir: topconfects.Rcheck Warnings: 0