Package: topconfects Version: 1.23.2 Command: /Library/Frameworks/R.framework/Resources/bin/R CMD build --keep-empty-dirs --no-resave-data topconfects StartedAt: 2025-02-04 17:49:46 -0500 (Tue, 04 Feb 2025) EndedAt: 2025-02-04 17:50:32 -0500 (Tue, 04 Feb 2025) EllapsedTime: 45.5 seconds RetCode: 0 Status: OK PackageFile: topconfects_1.23.2.tar.gz PackageFileSize: 2.519 MiB