Package: topconfects Version: 1.23.2 Command: rm -rf topconfects.buildbin-libdir && mkdir topconfects.buildbin-libdir && /Users/biocbuild/BBS/utils/build-universal.sh topconfects_1.23.2.tar.gz /Library/Frameworks/R.framework/Resources/bin/R topconfects.buildbin-libdir StartedAt: 2025-02-04 22:35:30 -0500 (Tue, 04 Feb 2025) EndedAt: 2025-02-04 22:35:33 -0500 (Tue, 04 Feb 2025) EllapsedTime: 3.1 seconds RetCode: 0 Status: OK PackageFile: topconfects_1.23.2.tgz PackageFileSize: 2.676 MiB