Package: topGO Version: 2.61.1 Command: /home/biocbuild/bbs-3.22-bioc/R/bin/R CMD INSTALL topGO StartedAt: 2025-10-10 15:50:18 -0400 (Fri, 10 Oct 2025) EndedAt: 2025-10-10 15:50:37 -0400 (Fri, 10 Oct 2025) EllapsedTime: 19.1 seconds RetCode: 0 Status: OK