Package: topGO Version: 2.61.1 Command: rm -rf topGO.buildbin-libdir && mkdir topGO.buildbin-libdir && /Users/biocbuild/BBS/utils/build-universal.sh topGO_2.61.1.tar.gz /Library/Frameworks/R.framework/Resources/bin/R topGO.buildbin-libdir StartedAt: 2025-10-11 02:58:52 -0400 (Sat, 11 Oct 2025) EndedAt: 2025-10-11 02:59:23 -0400 (Sat, 11 Oct 2025) EllapsedTime: 31.4 seconds RetCode: 0 Status: OK PackageFile: topGO_2.61.1.tgz PackageFileSize: 2.794 MiB