Package: tomoseqr Version: 1.13.0 Command: chmod a+r tomoseqr -R && F:\biocbuild\bbs-3.22-bioc\R\bin\R.exe CMD build --keep-empty-dirs --no-resave-data tomoseqr StartedAt: 2025-08-14 23:47:51 -0400 (Thu, 14 Aug 2025) EndedAt: 2025-08-14 23:48:22 -0400 (Thu, 14 Aug 2025) EllapsedTime: 30.7 seconds RetCode: 0 Status: OK PackageFile: tomoseqr_1.13.0.tar.gz PackageFileSize: 1.558 MiB