Package: tomoda Version: 1.19.0 Command: /home/biocbuild/bbs-3.22-bioc/R/bin/R CMD INSTALL tomoda StartedAt: 2025-10-06 15:35:02 -0400 (Mon, 06 Oct 2025) EndedAt: 2025-10-06 15:35:25 -0400 (Mon, 06 Oct 2025) EllapsedTime: 22.8 seconds RetCode: 0 Status: OK