Package: tomoda Version: 1.19.0 Command: /home/biocbuild/bbs-3.22-bioc/R/bin/R CMD build --keep-empty-dirs --no-resave-data --md5 tomoda StartedAt: 2025-10-06 20:31:50 -0400 (Mon, 06 Oct 2025) EndedAt: 2025-10-06 20:33:13 -0400 (Mon, 06 Oct 2025) EllapsedTime: 83.2 seconds RetCode: 0 Status: OK PackageFile: tomoda_1.19.0.tar.gz PackageFileSize: 2.858 MiB