Package: tomoda Version: 1.17.0 Command: /home/biocbuild/bbs-3.21-bioc/R/bin/R CMD INSTALL tomoda StartedAt: 2025-01-10 15:12:41 -0500 (Fri, 10 Jan 2025) EndedAt: 2025-01-10 15:13:02 -0500 (Fri, 10 Jan 2025) EllapsedTime: 21.2 seconds RetCode: 0 Status: OK