Package: tkWidgets Version: 1.87.0 Command: rm -rf tkWidgets.buildbin-libdir && mkdir tkWidgets.buildbin-libdir && F:\biocbuild\bbs-3.22-bioc\R\bin\R.exe CMD INSTALL --build --library=tkWidgets.buildbin-libdir tkWidgets_1.87.0.tar.gz StartedAt: 2025-08-15 11:30:26 -0400 (Fri, 15 Aug 2025) EndedAt: 2025-08-15 11:31:00 -0400 (Fri, 15 Aug 2025) EllapsedTime: 33.9 seconds RetCode: 0 Status: OK PackageFile: tkWidgets_1.87.0.zip PackageFileSize: 516.3 KiB