Package: tkWidgets Version: 1.89.0 Command: /home/biocbuild/bbs-3.23-bioc/R/bin/R CMD INSTALL tkWidgets StartedAt: 2025-10-31 15:13:09 -0400 (Fri, 31 Oct 2025) EndedAt: 2025-10-31 15:13:16 -0400 (Fri, 31 Oct 2025) EllapsedTime: 6.2 seconds RetCode: 0 Status: OK