Package: tkWidgets Version: 1.85.0 Command: /Library/Frameworks/R.framework/Resources/bin/R CMD INSTALL tkWidgets StartedAt: 2025-02-09 15:07:28 -0500 (Sun, 09 Feb 2025) EndedAt: 2025-02-09 15:08:04 -0500 (Sun, 09 Feb 2025) EllapsedTime: 36.0 seconds RetCode: 0 Status: OK