Package: tkWidgets Version: 1.85.0 Command: /Library/Frameworks/R.framework/Resources/bin/R CMD build --keep-empty-dirs --no-resave-data tkWidgets StartedAt: 2025-02-09 18:44:13 -0500 (Sun, 09 Feb 2025) EndedAt: 2025-02-09 18:44:35 -0500 (Sun, 09 Feb 2025) EllapsedTime: 21.7 seconds RetCode: 0 Status: OK PackageFile: tkWidgets_1.85.0.tar.gz PackageFileSize: 476 KiB