Package: tkWidgets Version: 1.85.0 Command: /home/biocbuild/R/R/bin/R CMD INSTALL tkWidgets StartedAt: 2025-01-29 19:35:25 -0000 (Wed, 29 Jan 2025) EndedAt: 2025-01-29 19:35:53 -0000 (Wed, 29 Jan 2025) EllapsedTime: 27.5 seconds RetCode: 0 Status: OK