Package: tkWidgets Version: 1.85.0 Command: /home/biocbuild/R/R/bin/R CMD build --keep-empty-dirs --no-resave-data tkWidgets StartedAt: 2025-01-28 02:56:40 -0000 (Tue, 28 Jan 2025) EndedAt: 2025-01-28 02:56:54 -0000 (Tue, 28 Jan 2025) EllapsedTime: 14.0 seconds RetCode: 0 Status: OK PackageFile: tkWidgets_1.85.0.tar.gz PackageFileSize: 468.8 KiB