Package: timescape Version: 1.33.0 Command: /home/biocbuild/bbs-3.22-bioc/R/bin/R CMD build --keep-empty-dirs --no-resave-data --md5 timescape StartedAt: 2025-10-27 20:32:39 -0400 (Mon, 27 Oct 2025) EndedAt: 2025-10-27 20:32:44 -0400 (Mon, 27 Oct 2025) EllapsedTime: 5.0 seconds RetCode: 0 Status: OK PackageFile: timescape_1.33.0.tar.gz PackageFileSize: 673.6 KiB