Package: timecourse Version: 1.81.0 Command: /home/biocbuild/R/R/bin/R CMD INSTALL timecourse StartedAt: 2025-10-23 20:31:17 -0000 (Thu, 23 Oct 2025) EndedAt: 2025-10-23 20:31:25 -0000 (Thu, 23 Oct 2025) EllapsedTime: 7.6 seconds RetCode: 0 Status: OK