Package: timecourse Version: 1.81.0 Command: /home/biocbuild/R/R/bin/R CMD build --keep-empty-dirs --no-resave-data timecourse StartedAt: 2025-10-21 03:45:07 -0000 (Tue, 21 Oct 2025) EndedAt: 2025-10-21 03:45:28 -0000 (Tue, 21 Oct 2025) EllapsedTime: 21.0 seconds RetCode: 0 Status: OK PackageFile: timecourse_1.81.0.tar.gz PackageFileSize: 832.6 KiB