Package: timecourse Version: 1.79.0 Command: chmod a+r timecourse -R && E:\biocbuild\bbs-3.21-bioc\R\bin\R.exe CMD build --keep-empty-dirs --no-resave-data timecourse StartedAt: 2025-02-03 22:18:51 -0500 (Mon, 03 Feb 2025) EndedAt: 2025-02-03 22:19:21 -0500 (Mon, 03 Feb 2025) EllapsedTime: 30.8 seconds RetCode: 0 Status: OK PackageFile: timecourse_1.79.0.tar.gz PackageFileSize: 713.4 KiB