Package: timecourse Version: 1.79.0 Command: /home/biocbuild/bbs-3.21-bioc/R/bin/R CMD check --install=check:timecourse.install-out.txt --library=/home/biocbuild/bbs-3.21-bioc/R/site-library --timings timecourse_1.79.0.tar.gz StartedAt: 2025-02-04 03:28:45 -0500 (Tue, 04 Feb 2025) EndedAt: 2025-02-04 03:29:32 -0500 (Tue, 04 Feb 2025) EllapsedTime: 47.1 seconds RetCode: 0 Status: OK CheckDir: timecourse.Rcheck Warnings: 0