Package: timecourse Version: 1.79.0 Command: /Library/Frameworks/R.framework/Resources/bin/R CMD INSTALL timecourse StartedAt: 2025-02-03 15:37:53 -0500 (Mon, 03 Feb 2025) EndedAt: 2025-02-03 15:37:56 -0500 (Mon, 03 Feb 2025) EllapsedTime: 3.2 seconds RetCode: 0 Status: OK