Package: timecourse Version: 1.79.0 Command: rm -rf timecourse.buildbin-libdir && mkdir timecourse.buildbin-libdir && /Users/biocbuild/BBS/utils/build-universal.sh timecourse_1.79.0.tar.gz /Library/Frameworks/R.framework/Resources/bin/R timecourse.buildbin-libdir StartedAt: 2025-02-03 23:09:17 -0500 (Mon, 03 Feb 2025) EndedAt: 2025-02-03 23:09:20 -0500 (Mon, 03 Feb 2025) EllapsedTime: 3.1 seconds RetCode: 0 Status: OK PackageFile: timecourse_1.79.0.tgz PackageFileSize: 944.8 KiB