Package: timeOmics Version: 1.19.0 Command: chmod a+r timeOmics -R && E:\biocbuild\bbs-3.21-bioc\R\bin\R.exe CMD build --keep-empty-dirs --no-resave-data timeOmics StartedAt: 2025-02-05 22:13:14 -0500 (Wed, 05 Feb 2025) EndedAt: 2025-02-05 22:14:11 -0500 (Wed, 05 Feb 2025) EllapsedTime: 57.2 seconds RetCode: 0 Status: OK PackageFile: timeOmics_1.19.0.tar.gz PackageFileSize: 2.767 MiB