Package: timeOmics Version: 1.19.0 Command: /home/biocbuild/bbs-3.21-bioc/R/bin/R CMD INSTALL timeOmics StartedAt: 2025-02-10 15:18:30 -0500 (Mon, 10 Feb 2025) EndedAt: 2025-02-10 15:18:42 -0500 (Mon, 10 Feb 2025) EllapsedTime: 11.9 seconds RetCode: 0 Status: OK