Package: timeOmics Version: 1.19.0 Command: /home/biocbuild/bbs-3.21-bioc/R/bin/R CMD check --install=check:timeOmics.install-out.txt --library=/home/biocbuild/bbs-3.21-bioc/R/site-library --timings timeOmics_1.19.0.tar.gz StartedAt: 2025-02-06 03:24:16 -0500 (Thu, 06 Feb 2025) EndedAt: 2025-02-06 03:27:08 -0500 (Thu, 06 Feb 2025) EllapsedTime: 172.2 seconds RetCode: 0 Status: WARNINGS CheckDir: timeOmics.Rcheck Warnings: 2