Package: timeOmics Version: 1.19.0 Command: /Library/Frameworks/R.framework/Resources/bin/R CMD INSTALL timeOmics StartedAt: 2025-02-05 15:24:23 -0500 (Wed, 05 Feb 2025) EndedAt: 2025-02-05 15:24:38 -0500 (Wed, 05 Feb 2025) EllapsedTime: 14.9 seconds RetCode: 0 Status: OK