Package: timeOmics Version: 1.19.0 Command: /Library/Frameworks/R.framework/Resources/bin/R CMD check --install=check:timeOmics.install-out.txt --library=/Library/Frameworks/R.framework/Resources/library --no-vignettes --timings timeOmics_1.19.0.tar.gz StartedAt: 2025-02-11 00:22:53 -0500 (Tue, 11 Feb 2025) EndedAt: 2025-02-11 00:25:50 -0500 (Tue, 11 Feb 2025) EllapsedTime: 177.2 seconds RetCode: 0 Status: WARNINGS CheckDir: timeOmics.Rcheck Warnings: 2