Package: timeOmics Version: 1.19.0 Command: /Library/Frameworks/R.framework/Resources/bin/R CMD build --keep-empty-dirs --no-resave-data timeOmics StartedAt: 2025-02-05 18:35:28 -0500 (Wed, 05 Feb 2025) EndedAt: 2025-02-05 18:36:08 -0500 (Wed, 05 Feb 2025) EllapsedTime: 40.2 seconds RetCode: 0 Status: OK PackageFile: timeOmics_1.19.0.tar.gz PackageFileSize: 4.011 MiB