Package: timeOmics Version: 1.19.0 Command: rm -rf timeOmics.buildbin-libdir && mkdir timeOmics.buildbin-libdir && /Users/biocbuild/BBS/utils/build-universal.sh timeOmics_1.19.0.tar.gz /Library/Frameworks/R.framework/Resources/bin/R timeOmics.buildbin-libdir StartedAt: 2025-02-11 01:34:15 -0500 (Tue, 11 Feb 2025) EndedAt: 2025-02-11 01:34:32 -0500 (Tue, 11 Feb 2025) EllapsedTime: 17.2 seconds RetCode: 0 Status: OK PackageFile: timeOmics_1.19.0.tgz PackageFileSize: 3.489 MiB