Package: timeOmics Version: 1.19.0 Command: /home/biocbuild/R/R/bin/R CMD build --keep-empty-dirs --no-resave-data timeOmics StartedAt: 2025-01-28 02:55:58 -0000 (Tue, 28 Jan 2025) EndedAt: 2025-01-28 02:56:53 -0000 (Tue, 28 Jan 2025) EllapsedTime: 55.0 seconds RetCode: 0 Status: OK PackageFile: timeOmics_1.19.0.tar.gz PackageFileSize: 3.009 MiB