Package: timeOmics Version: 1.19.0 Command: /Library/Frameworks/R.framework/Resources/bin/R CMD INSTALL timeOmics StartedAt: 2025-02-10 15:15:06 -0500 (Mon, 10 Feb 2025) EndedAt: 2025-02-10 15:15:11 -0500 (Mon, 10 Feb 2025) EllapsedTime: 4.6 seconds RetCode: 0 Status: OK