Package: tilingArray Version: 1.87.0 Command: /home/biocbuild/bbs-3.22-bioc/R/bin/R CMD INSTALL tilingArray StartedAt: 2025-07-24 16:02:20 -0400 (Thu, 24 Jul 2025) EndedAt: 2025-07-24 16:02:43 -0400 (Thu, 24 Jul 2025) EllapsedTime: 22.7 seconds RetCode: 0 Status: OK