Package: tilingArray Version: 1.87.0 Command: /home/biocbuild/bbs-3.22-bioc/R/bin/R CMD check --install=check:tilingArray.install-out.txt --library=/home/biocbuild/bbs-3.22-bioc/R/site-library --timings tilingArray_1.87.0.tar.gz StartedAt: 2025-10-06 05:14:34 -0400 (Mon, 06 Oct 2025) EndedAt: 2025-10-06 05:17:46 -0400 (Mon, 06 Oct 2025) EllapsedTime: 192.2 seconds RetCode: 0 Status: OK CheckDir: tilingArray.Rcheck Warnings: 0