Package: tilingArray Version: 1.85.0 Command: /home/biocbuild/R/R/bin/R CMD build --keep-empty-dirs --no-resave-data tilingArray StartedAt: 2025-01-28 02:55:54 -0000 (Tue, 28 Jan 2025) EndedAt: 2025-01-28 02:56:42 -0000 (Tue, 28 Jan 2025) EllapsedTime: 48.0 seconds RetCode: 0 Status: OK PackageFile: tilingArray_1.85.0.tar.gz PackageFileSize: 3.475 MiB