Package: tigre Version: 1.63.0 Command: /home/biocbuild/R/R/bin/R CMD build --keep-empty-dirs --no-resave-data tigre StartedAt: 2025-09-30 03:54:59 -0000 (Tue, 30 Sep 2025) EndedAt: 2025-09-30 03:58:33 -0000 (Tue, 30 Sep 2025) EllapsedTime: 214.1 seconds RetCode: 0 Status: OK PackageFile: tigre_1.63.0.tar.gz PackageFileSize: 309.6 KiB