Package: tigre Version: 1.63.0 Command: chmod a+r tigre -R && F:\biocbuild\bbs-3.22-bioc\R\bin\R.exe CMD build --keep-empty-dirs --no-resave-data tigre StartedAt: 2025-08-14 23:46:27 -0400 (Thu, 14 Aug 2025) EndedAt: 2025-08-14 23:49:55 -0400 (Thu, 14 Aug 2025) EllapsedTime: 207.9 seconds RetCode: 0 Status: OK PackageFile: tigre_1.63.0.tar.gz PackageFileSize: 318.6 KiB