Package: tigre Version: 1.63.0 Command: /Library/Frameworks/R.framework/Resources/bin/R CMD INSTALL tigre StartedAt: 2025-05-27 15:08:59 -0400 (Tue, 27 May 2025) EndedAt: 2025-05-27 15:09:07 -0400 (Tue, 27 May 2025) EllapsedTime: 7.3 seconds RetCode: 0 Status: OK