Package: tidytof Version: 1.3.0 Command: /home/biocbuild/R/R/bin/R CMD INSTALL tidytof StartedAt: 2025-10-16 21:25:18 -0000 (Thu, 16 Oct 2025) EndedAt: 2025-10-16 21:25:58 -0000 (Thu, 16 Oct 2025) EllapsedTime: 39.7 seconds RetCode: 0 Status: OK