Package: tidytof Version: 1.3.0 Command: /home/biocbuild/R/R/bin/R CMD build --keep-empty-dirs --no-resave-data tidytof StartedAt: 2025-10-17 05:13:05 -0000 (Fri, 17 Oct 2025) EndedAt: 2025-10-17 05:20:05 -0000 (Fri, 17 Oct 2025) EllapsedTime: 420.3 seconds RetCode: 0 Status: OK PackageFile: tidytof_1.3.0.tar.gz PackageFileSize: 1.756 MiB