Package: tidybulk Version: 1.99.4 Command: /home/biocbuild/bbs-3.22-bioc/R/bin/R CMD check --install=check:tidybulk.install-out.txt --library=/home/biocbuild/bbs-3.22-bioc/R/site-library --timings tidybulk_1.99.4.tar.gz StartedAt: 2025-10-25 04:55:36 -0400 (Sat, 25 Oct 2025) EndedAt: 2025-10-25 05:29:00 -0400 (Sat, 25 Oct 2025) EllapsedTime: 2003.9 seconds RetCode: 0 Status: OK CheckDir: tidybulk.Rcheck Warnings: 0