Package: tidybulk Version: 1.21.0 Command: /Library/Frameworks/R.framework/Resources/bin/R CMD INSTALL tidybulk StartedAt: 2025-05-06 15:24:29 -0400 (Tue, 06 May 2025) EndedAt: 2025-05-06 15:25:33 -0400 (Tue, 06 May 2025) EllapsedTime: 64.3 seconds RetCode: 0 Status: OK