Package: tidybulk Version: 1.21.0 Command: /Library/Frameworks/R.framework/Resources/bin/R CMD check --install=check:tidybulk.install-out.txt --library=/Library/Frameworks/R.framework/Resources/library --no-vignettes --timings tidybulk_1.21.0.tar.gz StartedAt: 2025-05-09 22:11:45 -0400 (Fri, 09 May 2025) EndedAt: 2025-05-09 22:15:10 -0400 (Fri, 09 May 2025) EllapsedTime: 204.6 seconds RetCode: 0 Status: OK CheckDir: tidybulk.Rcheck Warnings: 0