Package: tidybulk Version: 1.21.0 Command: rm -rf tidybulk.buildbin-libdir && mkdir tidybulk.buildbin-libdir && /Users/biocbuild/BBS/utils/build-universal.sh tidybulk_1.21.0.tar.gz /Library/Frameworks/R.framework/Resources/bin/R tidybulk.buildbin-libdir StartedAt: 2025-05-09 23:00:24 -0400 (Fri, 09 May 2025) EndedAt: 2025-05-09 23:00:45 -0400 (Fri, 09 May 2025) EllapsedTime: 21.5 seconds RetCode: 0 Status: OK PackageFile: tidybulk_1.21.0.tgz PackageFileSize: 3.408 MiB