Package: tidySummarizedExperiment Version: 1.17.0 Command: chmod a+r tidySummarizedExperiment -R && E:\biocbuild\bbs-3.21-bioc\R\bin\R.exe CMD build --keep-empty-dirs --no-resave-data tidySummarizedExperiment StartedAt: 2025-02-03 22:18:01 -0500 (Mon, 03 Feb 2025) EndedAt: 2025-02-03 22:18:59 -0500 (Mon, 03 Feb 2025) EllapsedTime: 58.9 seconds RetCode: 0 Status: OK PackageFile: tidySummarizedExperiment_1.17.0.tar.gz PackageFileSize: 325.5 KiB