Package: tidySummarizedExperiment Version: 1.19.6 Command: /home/biocbuild/bbs-3.22-bioc/R/bin/R CMD check --install=check:tidySummarizedExperiment.install-out.txt --library=/home/biocbuild/bbs-3.22-bioc/R/site-library --timings tidySummarizedExperiment_1.19.6.tar.gz StartedAt: 2025-10-18 05:37:37 -0400 (Sat, 18 Oct 2025) EndedAt: 2025-10-18 05:41:58 -0400 (Sat, 18 Oct 2025) EllapsedTime: 260.2 seconds RetCode: 0 Status: OK CheckDir: tidySummarizedExperiment.Rcheck Warnings: 0